BEGIN:VCALENDAR
VERSION:2.0
PRODID:-//eventon.com NONSGML v1.0//EN
CALSCALE:GREGORIAN
METHOD:PUBLISH
BEGIN:VEVENT
UID:69ed09d118c43
DTSTAMP:20260425T183705Z
DTSTART:20140423T190000Z
DTEND:20140423T210000Z
LOCATION:
SUMMARY:LEADERSHIP: GENDER & DIVERSITY - A KEY TO SUCCESS
DESCRIPTION:Credit Suisse AG\,  MSCI AC World Index and McKinsey have publi
 shed studies which show that companies with a gender diverse board outperfo
 rm those with only men. Can we find ways to promote diverse leadership by e
 xchanging experiences between Sweden and India? What are the winning strate
 gies? What are the best[..]\nhttps://indiaunlimited.se/events/leadership-wo
 men-leadership-for-tomorrow/
URL:https://indiaunlimited.se/events/leadership-women-leadership-for-tomorrow/
END:VEVENT
END:VCALENDAR