BEGIN:VCALENDAR
VERSION:2.0
PRODID:-//eventon.com NONSGML v1.0//EN
CALSCALE:GREGORIAN
METHOD:PUBLISH
BEGIN:VEVENT
UID:69ecd82e3639b
DTSTAMP:20260425T150518Z
DTSTART:20180526T172000Z
DTEND:20180526T173000Z
LOCATION:
SUMMARY:Bollywood\,  Bhangra & Hiphop fusion
DESCRIPTION:Bollywood\,  Bhangra & Hiphop fusion\nhttps://indiaunlimited.se
 /events/bollywood-bhangra-hiphop-fusion/
URL:https://indiaunlimited.se/events/bollywood-bhangra-hiphop-fusion/
END:VEVENT
END:VCALENDAR