BEGIN:VCALENDAR
VERSION:2.0
PRODID:-//eventon.com NONSGML v1.0//EN
CALSCALE:GREGORIAN
METHOD:PUBLISH
BEGIN:VEVENT
UID:69ecd85ea86e7
DTSTAMP:20260425T150606Z
DTSTART:20180526T171000Z
DTEND:20180526T171500Z
LOCATION:
SUMMARY:Telugu folk Dance
DESCRIPTION:Telugu folk Dance\nhttps://indiaunlimited.se/events/telugu-folk
 -dance/
URL:https://indiaunlimited.se/events/telugu-folk-dance/
END:VEVENT
END:VCALENDAR