BEGIN:VCALENDAR
VERSION:2.0
PRODID:-//eventon.com NONSGML v1.0//EN
CALSCALE:GREGORIAN
METHOD:PUBLISH
BEGIN:VEVENT
UID:69ecd7ad393da
DTSTAMP:20260425T150309Z
DTSTART:20180526T170000Z
DTEND:20180526T171000Z
LOCATION:
SUMMARY:Light Classical music
DESCRIPTION:Light Classical music\nhttps://indiaunlimited.se/events/light-c
 lassical-music/
URL:https://indiaunlimited.se/events/light-classical-music/
END:VEVENT
END:VCALENDAR