BEGIN:VCALENDAR
VERSION:2.0
PRODID:-//eventon.com NONSGML v1.0//EN
CALSCALE:GREGORIAN
METHOD:PUBLISH
BEGIN:VEVENT
UID:69ecd7a141725
DTSTAMP:20260425T150257Z
DTSTART:20180526T165000Z
DTEND:20180526T170000Z
LOCATION:
SUMMARY:Bhangra
DESCRIPTION:Bhangra\nhttps://indiaunlimited.se/events/bhangra-bhangra/
URL:https://indiaunlimited.se/events/bhangra-bhangra/
END:VEVENT
END:VCALENDAR