BEGIN:VCALENDAR
VERSION:2.0
PRODID:-//eventon.com NONSGML v1.0//EN
CALSCALE:GREGORIAN
METHOD:PUBLISH
BEGIN:VEVENT
UID:69ecd85f29a12
DTSTAMP:20260425T150607Z
DTSTART:20180526T164000Z
DTEND:20180526T165000Z
LOCATION:
SUMMARY:Odissi and dance to bengali modern song
DESCRIPTION:Odissi and dance to bengali modern song\nhttps://indiaunlimited
 .se/events/odissi-and-dance-to-bengali-modern-song/
URL:https://indiaunlimited.se/events/odissi-and-dance-to-bengali-modern-song/
END:VEVENT
END:VCALENDAR