BEGIN:VCALENDAR
VERSION:2.0
PRODID:-//eventon.com NONSGML v1.0//EN
CALSCALE:GREGORIAN
METHOD:PUBLISH
BEGIN:VEVENT
UID:69ecd7f0c4950
DTSTAMP:20260425T150416Z
DTSTART:20180526T163000Z
DTEND:20180526T163500Z
LOCATION:
SUMMARY:Kolaata
DESCRIPTION:Kolaata\nhttps://indiaunlimited.se/events/kolaata/
URL:https://indiaunlimited.se/events/kolaata/
END:VEVENT
END:VCALENDAR