BEGIN:VCALENDAR
VERSION:2.0
PRODID:-//eventon.com NONSGML v1.0//EN
CALSCALE:GREGORIAN
METHOD:PUBLISH
BEGIN:VEVENT
UID:69ecd80a3869b
DTSTAMP:20260425T150442Z
DTSTART:20180526T211000Z
DTEND:20180526T220000Z
LOCATION:
SUMMARY:Namaste Bollywood! Bollywood Electronic Dance Music presented
DESCRIPTION: \nhttps://indiaunlimited.se/events/dj/
URL:https://indiaunlimited.se/events/dj/
END:VEVENT
END:VCALENDAR