BEGIN:VCALENDAR
VERSION:2.0
PRODID:-//eventon.com NONSGML v1.0//EN
CALSCALE:GREGORIAN
METHOD:PUBLISH
BEGIN:VEVENT
UID:69ecd881cb03a
DTSTAMP:20260425T150641Z
DTSTART:20180526T204000Z
DTEND:20180526T211000Z
LOCATION:
SUMMARY:Exclusive Musical performance
DESCRIPTION:Exclusive Musical performance\nhttps://indiaunlimited.se/events
 /exclusive-musical-performance/
URL:https://indiaunlimited.se/events/exclusive-musical-performance/
END:VEVENT
END:VCALENDAR