BEGIN:VCALENDAR
VERSION:2.0
PRODID:-//eventon.com NONSGML v1.0//EN
CALSCALE:GREGORIAN
METHOD:PUBLISH
BEGIN:VEVENT
UID:69ecd82d572ad
DTSTAMP:20260425T150517Z
DTSTART:20180526T195000Z
DTEND:20180526T203000Z
LOCATION:
SUMMARY:Nrithyanjali
DESCRIPTION:Nrithyanjali\nhttps://indiaunlimited.se/events/nrithyanjali/
URL:https://indiaunlimited.se/events/nrithyanjali/
END:VEVENT
END:VCALENDAR