BEGIN:VCALENDAR
VERSION:2.0
PRODID:-//eventon.com NONSGML v1.0//EN
CALSCALE:GREGORIAN
METHOD:PUBLISH
BEGIN:VEVENT
UID:69ecd8302c419
DTSTAMP:20260425T150520Z
DTSTART:20180526T193500Z
DTEND:20180526T194500Z
LOCATION:
SUMMARY:Bollywood Dance
DESCRIPTION:Bollywood Dance\nhttps://indiaunlimited.se/events/bollywood-dan
 ce-3/
URL:https://indiaunlimited.se/events/bollywood-dance-3/
END:VEVENT
END:VCALENDAR