BEGIN:VCALENDAR
VERSION:2.0
PRODID:-//eventon.com NONSGML v1.0//EN
CALSCALE:GREGORIAN
METHOD:PUBLISH
BEGIN:VEVENT
UID:69ecd7f14458d
DTSTAMP:20260425T150417Z
DTSTART:20180526T191000Z
DTEND:20180526T193000Z
LOCATION:
SUMMARY:Indian folk & film songs
DESCRIPTION:Indian folk & film songs\nhttps://indiaunlimited.se/events/indi
 an-folk-film-songs/
URL:https://indiaunlimited.se/events/indian-folk-film-songs/
END:VEVENT
END:VCALENDAR