BEGIN:VCALENDAR
VERSION:2.0
PRODID:-//eventon.com NONSGML v1.0//EN
CALSCALE:GREGORIAN
METHOD:PUBLISH
BEGIN:VEVENT
UID:69ecd7408cfbc
DTSTAMP:20260425T150120Z
DTSTART:20180526T190000Z
DTEND:20180526T191000Z
LOCATION:
SUMMARY:Ganesha Sthuthi & Classical fusion	Bharatnatyam
DESCRIPTION:Ganesha Sthuthi & Classical fusion Bharatnatyam\nhttps://indiau
 nlimited.se/events/ganesha-sthuthi-classical-fusionbharatnatyam/
URL:https://indiaunlimited.se/events/ganesha-sthuthi-classical-fusionbharatnatyam/
END:VEVENT
END:VCALENDAR