BEGIN:VCALENDAR
VERSION:2.0
PRODID:-//eventon.com NONSGML v1.0//EN
CALSCALE:GREGORIAN
METHOD:PUBLISH
BEGIN:VEVENT
UID:69ecd8812e794
DTSTAMP:20260425T150641Z
DTSTART:20180526T181500Z
DTEND:20180526T190000Z
LOCATION:
SUMMARY:Utsav- A festive tour of India
DESCRIPTION:Utsav- A festive tour of India\nhttps://indiaunlimited.se/event
 s/utsav-a-musical-presentation/
URL:https://indiaunlimited.se/events/utsav-a-musical-presentation/
END:VEVENT
END:VCALENDAR