BEGIN:VCALENDAR
VERSION:2.0
PRODID:-//eventon.com NONSGML v1.0//EN
CALSCALE:GREGORIAN
METHOD:PUBLISH
BEGIN:VEVENT
UID:69ecd891c25d7
DTSTAMP:20260425T150657Z
DTSTART:20180526T180000Z
DTEND:20180526T181500Z
LOCATION:
SUMMARY:Kuchipudi
DESCRIPTION:Kuchipudi\nhttps://indiaunlimited.se/events/kuchipudi/
URL:https://indiaunlimited.se/events/kuchipudi/
END:VEVENT
END:VCALENDAR