BEGIN:VCALENDAR
VERSION:2.0
PRODID:-//eventon.com NONSGML v1.0//EN
CALSCALE:GREGORIAN
METHOD:PUBLISH
BEGIN:VEVENT
UID:69ecd7412426a
DTSTAMP:20260425T150121Z
DTSTART:20180526T155500Z
DTEND:20180526T160000Z
LOCATION:
SUMMARY:Tribute to Sridevi
DESCRIPTION:Tribute to Sridevi\nhttps://indiaunlimited.se/events/tribute-to
 -sridevi/
URL:https://indiaunlimited.se/events/tribute-to-sridevi/
END:VEVENT
END:VCALENDAR