BEGIN:VCALENDAR
VERSION:2.0
PRODID:-//eventon.com NONSGML v1.0//EN
CALSCALE:GREGORIAN
METHOD:PUBLISH
BEGIN:VEVENT
UID:69ecd74316719
DTSTAMP:20260425T150123Z
DTSTART:20180526T154500Z
DTEND:20180526T155500Z
LOCATION:
SUMMARY:Basanta Utsab
DESCRIPTION:Basanta Utsab\nhttps://indiaunlimited.se/events/basant-utsav/
URL:https://indiaunlimited.se/events/basant-utsav/
END:VEVENT
END:VCALENDAR