BEGIN:VCALENDAR
VERSION:2.0
PRODID:-//eventon.com NONSGML v1.0//EN
CALSCALE:GREGORIAN
METHOD:PUBLISH
BEGIN:VEVENT
UID:69ecd75ccaded
DTSTAMP:20260425T150148Z
DTSTART:20180526T153000Z
DTEND:20180526T154500Z
LOCATION:
SUMMARY:Oyilaattam\,  Kuthaattam\, Silambaattam\,  Paraiaattam
DESCRIPTION:Oyilaattam\,  Kuthaattam\, Silambaattam\,  Paraiaattam\nhttps:/
 /indiaunlimited.se/events/oyilaattam-kuthaattamsilambaattam-paraiaattam/
URL:https://indiaunlimited.se/events/oyilaattam-kuthaattamsilambaattam-paraiaattam/
END:VEVENT
END:VCALENDAR