BEGIN:VCALENDAR
VERSION:2.0
PRODID:-//eventon.com NONSGML v1.0//EN
CALSCALE:GREGORIAN
METHOD:PUBLISH
BEGIN:VEVENT
UID:69ecd857daa25
DTSTAMP:20260425T150559Z
DTSTART:20180526T150000Z
DTEND:20180526T151000Z
LOCATION:
SUMMARY:Destruction by Divinity
DESCRIPTION:Destruction by Divinity\nhttps://indiaunlimited.se/events/destr
 uction-by-divinity/
URL:https://indiaunlimited.se/events/destruction-by-divinity/
END:VEVENT
END:VCALENDAR