BEGIN:VCALENDAR
VERSION:2.0
PRODID:-//eventon.com NONSGML v1.0//EN
CALSCALE:GREGORIAN
METHOD:PUBLISH
BEGIN:VEVENT
UID:69ecd7acbfda5
DTSTAMP:20260425T150308Z
DTSTART:20180526T143000Z
DTEND:20180526T150000Z
LOCATION:
SUMMARY:Jugalbandi
DESCRIPTION:Jugalbandi\nhttps://indiaunlimited.se/events/jugalbandi/
URL:https://indiaunlimited.se/events/jugalbandi/
END:VEVENT
END:VCALENDAR