BEGIN:VCALENDAR
VERSION:2.0
PRODID:-//eventon.com NONSGML v1.0//EN
CALSCALE:GREGORIAN
METHOD:PUBLISH
BEGIN:VEVENT
UID:69ecd741968f0
DTSTAMP:20260425T150121Z
DTSTART:20180526T161000Z
DTEND:20180526T165000Z
LOCATION:
SUMMARY:Resa med tåg i Indien
DESCRIPTION:Resa med tåg i Indien Följ med på Ökenexpressen till Jaisal
 mer\,  bergståget till Darjeeling och det ångloksdrivna tåget på kuggst
 ångsbanan upp till den före detta brittiska rekreationsorten Ooty i Nilgi
 ribergen. Författaren och resejournalisten Per J Andersson har åkt tåg k
 ors och tvärs i Indien sedan början av 1980-talet och berättar[..]\nhttp
 s://indiaunlimited.se/events/resa-med-tag-i-indien/
URL:https://indiaunlimited.se/events/resa-med-tag-i-indien/
END:VEVENT
END:VCALENDAR