BEGIN:VCALENDAR
VERSION:2.0
PRODID:-//eventon.com NONSGML v1.0//EN
CALSCALE:GREGORIAN
METHOD:PUBLISH
BEGIN:VEVENT
UID:69ecd73fef9a6
DTSTAMP:20260425T150119Z
DTSTART:20180526T153500Z
DTEND:20180526T160500Z
LOCATION:
SUMMARY:Hitta dina styrkor och lev mer i flow; med inspiration av Ayurveda
DESCRIPTION:Ledarskapskonsult\,  coach\,  författare\,  leg sjuksköterska
 \,  fil kand Beteendemedicin & Hälsopsykologi\,  Folkhälsovetare\,  exa
 men från RishikesCollege of Ayurved\,  India. Utbildad i Leadership M
 anagement Training från Krauthammer University\,  Schweiz. Eva är en
  av de ledande personerna inom Ayurveda i Sverige och har ett unikt sätt a
 tt översätta det på ett modernt och handlingskraftigt sätt som har insp
 irerat många till att skapa positiva förändringar. Hon har[..]\nhttps://
 indiaunlimited.se/events/ayurveda/
URL:https://indiaunlimited.se/events/ayurveda/
END:VEVENT
END:VCALENDAR