BEGIN:VCALENDAR
VERSION:2.0
PRODID:-//eventon.com NONSGML v1.0//EN
CALSCALE:GREGORIAN
METHOD:PUBLISH
BEGIN:VEVENT
UID:69ecd7a133686
DTSTAMP:20260425T150257Z
DTSTART:20180526T150000Z
DTEND:20180526T153000Z
LOCATION:
SUMMARY:Andliga Indien “Hur kan jag höja min livskvalitet genom meditation?"
DESCRIPTION:Judith Bourque blev meditationslärare hos Beatles guru i Indie
 n under flower power-eran och berättar hur man genom meditation skapar pos
 itiva effekter på kropp och sinne. Under presentationen ges deltagarna ett
  smakprov på meditation samt bjuds om resa till Indien med tips från Indi
 enexperten Indcen Resor.\nhttps://indiaunlimited.se/events/spiritual-india/
URL:https://indiaunlimited.se/events/spiritual-india/
END:VEVENT
END:VCALENDAR