BEGIN:VCALENDAR
VERSION:2.0
PRODID:-//eventon.com NONSGML v1.0//EN
CALSCALE:GREGORIAN
METHOD:PUBLISH
BEGIN:VEVENT
UID:69ecd808b4c64
DTSTAMP:20260425T150440Z
DTSTART:20180526T140000Z
DTEND:20180526T143000Z
LOCATION:
SUMMARY:Författaren bakom succéboken och teveserien ”Delhis vackraste händer”
DESCRIPTION:Möt Mikael Bergstrand -Författaren bakom succéboken och teve
 serien ”Delhis vackraste händer” Följ med på en fartfylld litterär 
 resa som kryssar mellan indiska upplevelser och svensk sommarmagi. Möt fö
 rfattaren Mikael Bergstrand som gjorts succé med sina  romaner om den s
 venske medelåldersmannen Göran Borg och hans indiske kompanjon Yogi. Mik
 ael har trettio års erfarenhet som journalist[..]\nhttps://indiaunlimited
 .se/events/mot-mikael-bergstrand-forfattaren-bakom-succeboken-och-teveserie
 n-delhis-vackraste-hander/
URL:https://indiaunlimited.se/events/mot-mikael-bergstrand-forfattaren-bakom-succeboken-och-teveserien-delhis-vackraste-hander/
END:VEVENT
END:VCALENDAR