BEGIN:VCALENDAR
VERSION:2.0
PRODID:-//eventon.com NONSGML v1.0//EN
CALSCALE:GREGORIAN
METHOD:PUBLISH
BEGIN:VEVENT
UID:69ecd7c05c5a0
DTSTAMP:20260425T150328Z
DTSTART:20180526T130000Z
DTEND:20180526T133000Z
LOCATION:
SUMMARY:Seminar: Incredible India And Air India
DESCRIPTION:Seminar: Incredible India And Air India\nhttps://indiaunlimited
 .se/events/incredible-india-and-air-india/
URL:https://indiaunlimited.se/events/incredible-india-and-air-india/
END:VEVENT
END:VCALENDAR