BEGIN:VCALENDAR
VERSION:2.0
PRODID:-//eventon.com NONSGML v1.0//EN
CALSCALE:GREGORIAN
METHOD:PUBLISH
BEGIN:VEVENT
UID:69ecd85859ec5
DTSTAMP:20260425T150600Z
DTSTART:20180526T135500Z
DTEND:20180526T140000Z
LOCATION:
SUMMARY:Punjabi dance
DESCRIPTION:Punjabi dance\nhttps://indiaunlimited.se/events/punjabi-dance/
URL:https://indiaunlimited.se/events/punjabi-dance/
END:VEVENT
END:VCALENDAR