BEGIN:VCALENDAR
VERSION:2.0
PRODID:-//eventon.com NONSGML v1.0//EN
CALSCALE:GREGORIAN
METHOD:PUBLISH
BEGIN:VEVENT
UID:69ecd82ea6219
DTSTAMP:20260425T150518Z
DTSTART:20180526T134500Z
DTEND:20180526T135500Z
LOCATION:
SUMMARY:Dance of Tridev\,  Krishna Rasleela Dandiya & Tandav
DESCRIPTION:Dance of Tridev\,  Krishna Rasleela Dandiya & Tandav\nhttps://i
 ndiaunlimited.se/events/dance-of-tridev/
URL:https://indiaunlimited.se/events/dance-of-tridev/
END:VEVENT
END:VCALENDAR