BEGIN:VCALENDAR
VERSION:2.0
PRODID:-//eventon.com NONSGML v1.0//EN
CALSCALE:GREGORIAN
METHOD:PUBLISH
BEGIN:VEVENT
UID:69ecd7a2ebeaf
DTSTAMP:20260425T150258Z
DTSTART:20180526T133000Z
DTEND:20180526T134500Z
LOCATION:
SUMMARY:Marathi Nrutyavishkar
DESCRIPTION:Bollywood dance along  by Alen school of dances\nhttps://india
 unlimited.se/events/marathi-nrutyavishkar/
URL:https://indiaunlimited.se/events/marathi-nrutyavishkar/
END:VEVENT
END:VCALENDAR