BEGIN:VCALENDAR
VERSION:2.0
PRODID:-//eventon.com NONSGML v1.0//EN
CALSCALE:GREGORIAN
METHOD:PUBLISH
BEGIN:VEVENT
UID:69ecd7c2c7725
DTSTAMP:20260425T150330Z
DTSTART:20180526T125000Z
DTEND:20180526T130000Z
LOCATION:
SUMMARY:Ghoomar
DESCRIPTION:Bollywood dance along  by Alen school of dances\nhttps://india
 unlimited.se/events/ghoomar/
URL:https://indiaunlimited.se/events/ghoomar/
END:VEVENT
END:VCALENDAR