BEGIN:VCALENDAR
VERSION:2.0
PRODID:-//eventon.com NONSGML v1.0//EN
CALSCALE:GREGORIAN
METHOD:PUBLISH
BEGIN:VEVENT
UID:69ecd856d7022
DTSTAMP:20260425T150558Z
DTSTART:20180526T123500Z
DTEND:20180526T124500Z
LOCATION:
SUMMARY:Nirvana
DESCRIPTION:Kuchipudi abstract - Arunima Kumar  Dance Company London\nhtt
 ps://indiaunlimited.se/events/nirvana/
URL:https://indiaunlimited.se/events/nirvana/
END:VEVENT
END:VCALENDAR