BEGIN:VCALENDAR
VERSION:2.0
PRODID:-//eventon.com NONSGML v1.0//EN
CALSCALE:GREGORIAN
METHOD:PUBLISH
BEGIN:VEVENT
UID:69ecd809b8455
DTSTAMP:20260425T150441Z
DTSTART:20180526T122000Z
DTEND:20180526T123000Z
LOCATION:
SUMMARY:Shivataandavam Bharatnatyam
DESCRIPTION:by Saraswathy Kalakendra\nhttps://indiaunlimited.se/events/shiv
 ataandavam-bharatnatyam/
URL:https://indiaunlimited.se/events/shivataandavam-bharatnatyam/
END:VEVENT
END:VCALENDAR