BEGIN:VCALENDAR
VERSION:2.0
PRODID:-//eventon.com NONSGML v1.0//EN
CALSCALE:GREGORIAN
METHOD:PUBLISH
BEGIN:VEVENT
UID:69ecd7c0c568a
DTSTAMP:20260425T150328Z
DTSTART:20180526T120000Z
DTEND:20180526T120500Z
LOCATION:
SUMMARY:Nritiya Yoga
DESCRIPTION:by Arunima Kumar Dance Company London\nhttps://indiaunlimited.s
 e/events/nritiya-yoga/
URL:https://indiaunlimited.se/events/nritiya-yoga/
END:VEVENT
END:VCALENDAR