BEGIN:VCALENDAR
VERSION:2.0
PRODID:-//eventon.com NONSGML v1.0//EN
CALSCALE:GREGORIAN
METHOD:PUBLISH
BEGIN:VEVENT
UID:69ecd82f325f7
DTSTAMP:20260425T150519Z
DTSTART:20180526T103000Z
DTEND:20180526T120000Z
LOCATION:
SUMMARY:YOGATHON by Art of Living
DESCRIPTION:YOGATHON med Swami Jyothirmayah by Art of Living\nhttps://india
 unlimited.se/events/yogathon-by-art-of-living/
URL:https://indiaunlimited.se/events/yogathon-by-art-of-living/
END:VEVENT
END:VCALENDAR