BEGIN:VCALENDAR
VERSION:2.0
PRODID:-//eventon.com NONSGML v1.0//EN
CALSCALE:GREGORIAN
METHOD:PUBLISH
BEGIN:VEVENT
UID:69ecd8824bd7b
DTSTAMP:20260425T150642Z
DTSTART:20180526T120500Z
DTEND:20180526T121000Z
LOCATION:
SUMMARY:Introduction
DESCRIPTION:Introduction\nhttps://indiaunlimited.se/events/introduction/
URL:https://indiaunlimited.se/events/introduction/
END:VEVENT
END:VCALENDAR