BEGIN:VCALENDAR
VERSION:2.0
PRODID:-//eventon.com NONSGML v1.0//EN
CALSCALE:GREGORIAN
METHOD:PUBLISH
BEGIN:VEVENT
UID:69ecd8563f55c
DTSTAMP:20260425T150558Z
DTSTART:20180526T121000Z
DTEND:20180526T122000Z
LOCATION:
SUMMARY:Inauguration
DESCRIPTION:Inauguration\nhttps://indiaunlimited.se/events/inauguration-3/
URL:https://indiaunlimited.se/events/inauguration-3/
END:VEVENT
END:VCALENDAR