BEGIN:VCALENDAR
VERSION:2.0
PRODID:-//eventon.com NONSGML v1.0//EN
CALSCALE:GREGORIAN
METHOD:PUBLISH
BEGIN:VEVENT
UID:69ecd85da1c9d
DTSTAMP:20260425T150605Z
DTSTART:20180526T093000Z
DTEND:20180526T103000Z
LOCATION:
SUMMARY:Wake up with Yoga
DESCRIPTION:India Unlimited in collaboration with Yogobe present Wake-up Yo
 ga in Kungsträdgården. Yogobe will start the Yoga session at 9:30. Please
  note\,  you need to bring you own Yoga mat!\nhttps://indiaunlimited.se/eve
 nts/wake-up-with-yoga-copy/
URL:https://indiaunlimited.se/events/wake-up-with-yoga-copy/
END:VEVENT
END:VCALENDAR