BEGIN:VCALENDAR
VERSION:2.0
PRODID:-//eventon.com NONSGML v1.0//EN
CALSCALE:GREGORIAN
METHOD:PUBLISH
BEGIN:VEVENT
UID:69ecd74220565
DTSTAMP:20260425T150122Z
DTSTART:20170817T122500Z
DTEND:20170817T131000Z
LOCATION:
SUMMARY:Skilling: Skill Up Women in India
DESCRIPTION:Skill development is being given a priority by the Indian Gover
 nment with a hope that Skill India Mission will supply huge human resource 
 not only in India but also Internationally. By 2020\,  the average age in I
 ndia will be 29 years making it the world’s youngest country with 64 per[
 ..]\nhttps://indiaunlimited.se/events/skill-up-india/
URL:https://indiaunlimited.se/events/skill-up-india/
END:VEVENT
END:VCALENDAR