BEGIN:VCALENDAR
VERSION:2.0
PRODID:-//eventon.com NONSGML v1.0//EN
CALSCALE:GREGORIAN
METHOD:PUBLISH
BEGIN:VEVENT
UID:69ecd73fef42e
DTSTAMP:20260425T150119Z
DTSTART:20170817T105500Z
DTEND:20170817T114000Z
LOCATION:
SUMMARY:Reimagining India: Making in India 2047
DESCRIPTION:India is expected to be the third-largest economy by 2025. Powe
 ring that growth is the trend toward urbanization\,  which is going to incr
 ease consumption power\,  as well as economic leverage.  Also\,  a factor 
 is streamlining of government functioning using technology. India growth  
 is as well  dependent on  factors as monsoons\, [..]\nhttps://indiaunlimi
 ted.se/events/reimagining-making-in-india-100-2037/
URL:https://indiaunlimited.se/events/reimagining-making-in-india-100-2037/
END:VEVENT
END:VCALENDAR