BEGIN:VCALENDAR
VERSION:2.0
PRODID:-//eventon.com NONSGML v1.0//EN
CALSCALE:GREGORIAN
METHOD:PUBLISH
BEGIN:VEVENT
UID:69ecd85c83cca
DTSTAMP:20260425T150604Z
DTSTART:20170817T141500Z
DTEND:20170817T150000Z
LOCATION:
SUMMARY:Reimagining India: Innovation & Sustainable Environment
DESCRIPTION:With high growth\,  India will need to find Innovative technolo
 gical solutions to help solve issues connected with creating sustainable en
 vironments We will have Ms Anumita Roy Chowdhury\,  Executive Director - 
 Research and Advocacy\,   Centre for Science and Environment  to give the
  keynote talk on India and Sustainability 30 years from now. Sweden is[..]
 \nhttps://indiaunlimited.se/events/re-imagining-india-innovation-sustainabl
 e-environment/
URL:https://indiaunlimited.se/events/re-imagining-india-innovation-sustainable-environment/
END:VEVENT
END:VCALENDAR