BEGIN:VCALENDAR
VERSION:2.0
PRODID:-//eventon.com NONSGML v1.0//EN
CALSCALE:GREGORIAN
METHOD:PUBLISH
BEGIN:VEVENT
UID:69ecd891bdc25
DTSTAMP:20260425T150657Z
DTSTART:20170817T132500Z
DTEND:20170817T141000Z
LOCATION:
SUMMARY:The Skilled Indian
DESCRIPTION:The people in India are well educated\,  ambitious and entrepre
 neurial. There is a rapidly growing middle-class with a diverse talent pool
  which is also very attractive to Sweden and Swedish companies. India’s m
 any world-class businesses are adept at creating markets and innovating ind
 ustries. India’s competent and scalable workforce is a[..]\nhttps://india
 unlimited.se/events/skilled-indian/
URL:https://indiaunlimited.se/events/skilled-indian/
END:VEVENT
END:VCALENDAR