BEGIN:VCALENDAR
VERSION:2.0
PRODID:-//eventon.com NONSGML v1.0//EN
CALSCALE:GREGORIAN
METHOD:PUBLISH
BEGIN:VEVENT
UID:69ecd75bd14de
DTSTAMP:20260425T150147Z
DTSTART:20170817T085000Z
DTEND:20170817T104500Z
LOCATION:
SUMMARY:Technology Impact on My Country\,  My City\,  My Life
DESCRIPTION:Part 1– Technology Impact: On My Country Future perspective o
 n Security and ICT in the coming 30 years. Smart ICT is a key driver for 
 Make in India”\,  “Digital India”. Mobile broadband –Main catalyst
  binding rural and urban India\,  widening the marketplace for businesses. 
 Online retail emerging as one of[..]\nhttps://indiaunlimited.se/events/tech
 nology-and-its-impact-on-my-life/
URL:https://indiaunlimited.se/events/technology-and-its-impact-on-my-life/
END:VEVENT
END:VCALENDAR