BEGIN:VCALENDAR
VERSION:2.0
PRODID:-//eventon.com NONSGML v1.0//EN
CALSCALE:GREGORIAN
METHOD:PUBLISH
BEGIN:VEVENT
UID:69ecd7a3726a5
DTSTAMP:20260425T150259Z
DTSTART:20170817T080000Z
DTEND:20170817T084500Z
LOCATION:
SUMMARY:Textile 2047
DESCRIPTION:We want to understand the developments in the Textile industry 
 in the next 30 years and its impact in India. From creativity and design to
  consumption\,  from new business models to finding sustainable solutions i
 n the supply chain and brands which focuses on water efficiency\,  reductio
 n of chemical use and[..]\nhttps://indiaunlimited.se/events/sustainable-tex
 tile/
URL:https://indiaunlimited.se/events/sustainable-textile/
END:VEVENT
END:VCALENDAR