BEGIN:VCALENDAR
VERSION:2.0
PRODID:-//eventon.com NONSGML v1.0//EN
CALSCALE:GREGORIAN
METHOD:PUBLISH
BEGIN:VEVENT
UID:69ecd7ab3ee4f
DTSTAMP:20260425T150307Z
DTSTART:20160522T120000Z
DTEND:20160522T160000Z
LOCATION:
SUMMARY:India Day at East Asia Museum
DESCRIPTION:In collaboration with the East Asian Museum and Indian Embassy\
 ,  we are very happy to bring India Day to East Asian Museum. &nbsp; Intera
 ctive session on modern dances by Astad Deboo\,  an  Indian contemporary d
 ancer and choreographer trained in Indian classical dance of ‘Kathak’ a
 nd ‘Kathakali’  to create a dance[..]\nhttps://indiaunlimited.se/event
 s/india-day-at-east-asia-museum/
URL:https://indiaunlimited.se/events/india-day-at-east-asia-museum/
END:VEVENT
END:VCALENDAR