BEGIN:VCALENDAR
VERSION:2.0
PRODID:-//eventon.com NONSGML v1.0//EN
CALSCALE:GREGORIAN
METHOD:PUBLISH
BEGIN:VEVENT
UID:69ecd7adaf995
DTSTAMP:20260425T150309Z
DTSTART:20160522T160000Z
DTEND:20160522T200000Z
LOCATION:
SUMMARY:A journey to India
DESCRIPTION:Tabla player Sukhwinder Singh\,  cellist Matthew Barley and O/M
 ODERNT Kammarorkester take us on a journey to the East with Indian style im
 provisations\,  Taveners Protecting Veil and music of The Beatles. Purchase
  your tickets at Musikaliska.com\,  Tickster: 0771-47 70 70 or KulturDirekt
 .se. Price: 260 SEK/160 SEK &nbsp; &nbsp;\nhttps://indiaunlimited.se/events
 /a-journey-to-india/
URL:https://indiaunlimited.se/events/a-journey-to-india/
END:VEVENT
END:VCALENDAR