BEGIN:VCALENDAR
VERSION:2.0
PRODID:-//eventon.com NONSGML v1.0//EN
CALSCALE:GREGORIAN
METHOD:PUBLISH
BEGIN:VEVENT
UID:69ecd88344ea5
DTSTAMP:20260425T150643Z
DTSTART:20160504T083000Z
DTEND:20160504T103000Z
LOCATION:
SUMMARY:Indo-Sweden Business Ties: New Partnership Opportunities (Gothenburg)
DESCRIPTION:Prime Minister Lofven’s visit to India in February 2016 has m
 ade Indian and Swedish companies more keen to develop business ties. Alread
 y\,  many companies in the region are in India and see a bright future. Got
 henburg has also already attracted many global Indian companies – most re
 cent being HCL. Attend[..]\nhttps://indiaunlimited.se/events/indo-sweden-bu
 siness-ties-relationships-driving-values/
URL:https://indiaunlimited.se/events/indo-sweden-business-ties-relationships-driving-values/
END:VEVENT
END:VCALENDAR