BEGIN:VCALENDAR
VERSION:2.0
PRODID:-//eventon.com NONSGML v1.0//EN
CALSCALE:GREGORIAN
METHOD:PUBLISH
BEGIN:VEVENT
UID:69ecd893a5d27
DTSTAMP:20260425T150659Z
DTSTART:20160517T160000Z
DTEND:20160517T183000Z
LOCATION:
SUMMARY:SIBC DIALOGUE â€“ May 17th (Free)
DESCRIPTION:The leading initiative for true success in India by Sweden-Indi
 a Business Council The 3rd SIBC Dialogue â€“ A panel discussing key strateg
 iesÂ  and current affairs while providing deeper insight.Â This unique oppo
 rtunity to listen to some of the most successful people in their fields. â€
 “ JOIN this discussion with SIBCâ€™s Â Senior[..]\nhttps://indiaunlimited.s
 e/events/sibc-dialogue-may-17th-free/
URL:https://indiaunlimited.se/events/sibc-dialogue-may-17th-free/
END:VEVENT
END:VCALENDAR