BEGIN:VCALENDAR
VERSION:2.0
PRODID:-//eventon.com NONSGML v1.0//EN
CALSCALE:GREGORIAN
METHOD:PUBLISH
BEGIN:VEVENT
UID:69ecd882c5706
DTSTAMP:20260425T150642Z
DTSTART:20160502T100000Z
DTEND:20160502T113000Z
LOCATION:
SUMMARY:Energy collaboration - Smart grid pilot projects
DESCRIPTION:Despite the difference in size\,  both India and Sweden share m
 any challenges in our respective energy transitions and have a lot to learn
  from each other. This is reflected by the collaboration on new and renewab
 le energy between our countries. India’s key role in the establishment an
 d implementation of the[..]\nhttps://indiaunlimited.se/events/energy-collab
 oration-smart-grid-pilot-projects/
URL:https://indiaunlimited.se/events/energy-collaboration-smart-grid-pilot-projects/
END:VEVENT
END:VCALENDAR