BEGIN:VCALENDAR
VERSION:2.0
PRODID:-//eventon.com NONSGML v1.0//EN
CALSCALE:GREGORIAN
METHOD:PUBLISH
BEGIN:VEVENT
UID:69ecd75b5d6dc
DTSTAMP:20260425T150147Z
DTSTART:20160423T110000Z
DTEND:20160423T180000Z
LOCATION:
SUMMARY:Tagore to Ray
DESCRIPTION:The Embassy of India and India Unlimited are celebrating divers
 ity through the different events to be hosted this spring. In partnership w
 ith Millesgården we proudly present the exhibition Tagore to Ray. Visitors
  may experience a new side of the iconic Rabindranath Tagore and Satyajit R
 ay known for the stories they[..]\nhttps://indiaunlimited.se/events/tagore-
 to-ray-at-millesgarden/
URL:https://indiaunlimited.se/events/tagore-to-ray-at-millesgarden/
END:VEVENT
END:VCALENDAR