BEGIN:VCALENDAR
VERSION:2.0
PRODID:-//eventon.com NONSGML v1.0//EN
CALSCALE:GREGORIAN
METHOD:PUBLISH
BEGIN:VEVENT
UID:69ecd8083e4aa
DTSTAMP:20260425T150440Z
DTSTART:20160521T110000Z
DTEND:20160521T010000Z
LOCATION:
SUMMARY:Namaste Stockholm
DESCRIPTION:Are you curious about India\,  or simply miss it? Welcome to Na
 maste Stockholm\,  a culture festival for everybody who wants to travel to 
 India by walking into the heart of Stockholm. Begin your day with Yoga\,  a
 ncient practices and their modern interpretations. Watch how talented dance
 rs perform in strong colors[..]\nhttps://indiaunlimited.se/events/namaste-s
 tockholm/
URL:https://indiaunlimited.se/events/namaste-stockholm/
END:VEVENT
END:VCALENDAR