BEGIN:VCALENDAR
VERSION:2.0
PRODID:-//eventon.com NONSGML v1.0//EN
CALSCALE:GREGORIAN
METHOD:PUBLISH
BEGIN:VEVENT
UID:69ecd82d56711
DTSTAMP:20260425T150517Z
DTSTART:20160503T140000Z
DTEND:20160503T153000Z
LOCATION:
SUMMARY:Indian Consumer
DESCRIPTION:The retail space in India and how Indian consumers do their dai
 ly shopping is being redefined and creating new billion-dollar e-commerce c
 ompanies like Flipkart and Snapdeal. E-commerce is starting a new trend for
  digital commerce and digital India and thus creating opportunities for Swe
 dish businesses who are experts within this[..]\nhttps://indiaunlimited.se/
 events/indian-consumer/
URL:https://indiaunlimited.se/events/indian-consumer/
END:VEVENT
END:VCALENDAR